BEGIN:VCALENDAR
VERSION:2.0
PRODID:-//Turning of the Ages Mystery School - ECPv6.15.20//NONSGML v1.0//EN
CALSCALE:GREGORIAN
METHOD:PUBLISH
X-ORIGINAL-URL:https://turningoftheages.com
X-WR-CALDESC:Events for Turning of the Ages Mystery School
REFRESH-INTERVAL;VALUE=DURATION:PT1H
X-Robots-Tag:noindex
X-PUBLISHED-TTL:PT1H
BEGIN:VTIMEZONE
TZID:America/Los_Angeles
BEGIN:DAYLIGHT
TZOFFSETFROM:-0800
TZOFFSETTO:-0700
TZNAME:PDT
DTSTART:20250309T100000
END:DAYLIGHT
BEGIN:STANDARD
TZOFFSETFROM:-0700
TZOFFSETTO:-0800
TZNAME:PST
DTSTART:20251102T090000
END:STANDARD
BEGIN:DAYLIGHT
TZOFFSETFROM:-0800
TZOFFSETTO:-0700
TZNAME:PDT
DTSTART:20260308T100000
END:DAYLIGHT
BEGIN:STANDARD
TZOFFSETFROM:-0700
TZOFFSETTO:-0800
TZNAME:PST
DTSTART:20261101T090000
END:STANDARD
BEGIN:DAYLIGHT
TZOFFSETFROM:-0800
TZOFFSETTO:-0700
TZNAME:PDT
DTSTART:20270314T100000
END:DAYLIGHT
BEGIN:STANDARD
TZOFFSETFROM:-0700
TZOFFSETTO:-0800
TZNAME:PST
DTSTART:20271107T090000
END:STANDARD
END:VTIMEZONE
BEGIN:VEVENT
DTSTART;TZID=America/Los_Angeles:20260522T170000
DTEND;TZID=America/Los_Angeles:20260522T183000
DTSTAMP:20260425T040426
CREATED:20260306T182859Z
LAST-MODIFIED:20260312T155534Z
UID:56581-1779469200-1779474600@turningoftheages.com
SUMMARY:May Chart Guidance
DESCRIPTION:Topic to Be Announced\nChart Guidance with Daniel Giamario\n\nFriday\, May 22\, 5:00-6:30pm PDT\nFind your local time HERE \nChart Guidance (formerly Group Mentoring) offers a low-cost opportunity to ask your most pressing questions relative to your personal chart and the topic of each session for our Founder to offer insight\, guidance and navigation strategies specific to your unique life purpose\, path and the planetary initiations you find yourself in at any given time. \nAfter signing up\, you will receive access to the course where you can submit your question.\nSubmitting your question early may ensure that it will be addressed live. \nFor a full Chart Reading\, visit our Astrologer Directory. \n\nENROLLMENT OPENING SOON!\n\nFor TOTAMS Members:\nFree for Premium Members! Discount Code on your dashboard! \n\nBasic Members click HERE to purchase for 50% off! \nNot a Member? Consider joining today: https://turningoftheages.com/membership/ \n\n\nChart Guidance (Formerly Group Mentoring) always takes place on or near the First Quarter Moon. The main purpose is to provide an opportunity to enhance participant understanding and skills in various aspects of chart analysis. Each monthly offering has a different focus. Previous sessions included: Pluto aspects and transits\, all about Mercury (including retrogrades)\, how to work with eclipses on a chart\, and many more. Find the full archive of previously recorded Group Mentoring sessions by visiting the TOTAMS Online Store.
URL:https://turningoftheages.com/event/may-chart-guidance/
LOCATION:Ubid
CATEGORIES:Group Mentoring
ATTACH;FMTTYPE=image/jpeg:https://turningoftheages.com/wp-content/uploads/2025/11/GroupMentoringPhoto.jpg
END:VEVENT
END:VCALENDAR