BEGIN:VCALENDAR
VERSION:2.0
PRODID:-//Turning of the Ages Mystery School - ECPv6.15.20//NONSGML v1.0//EN
CALSCALE:GREGORIAN
METHOD:PUBLISH
X-ORIGINAL-URL:https://turningoftheages.com
X-WR-CALDESC:Events for Turning of the Ages Mystery School
REFRESH-INTERVAL;VALUE=DURATION:PT1H
X-Robots-Tag:noindex
X-PUBLISHED-TTL:PT1H
BEGIN:VTIMEZONE
TZID:America/Los_Angeles
BEGIN:DAYLIGHT
TZOFFSETFROM:-0800
TZOFFSETTO:-0700
TZNAME:PDT
DTSTART:20250309T100000
END:DAYLIGHT
BEGIN:STANDARD
TZOFFSETFROM:-0700
TZOFFSETTO:-0800
TZNAME:PST
DTSTART:20251102T090000
END:STANDARD
BEGIN:DAYLIGHT
TZOFFSETFROM:-0800
TZOFFSETTO:-0700
TZNAME:PDT
DTSTART:20260308T100000
END:DAYLIGHT
BEGIN:STANDARD
TZOFFSETFROM:-0700
TZOFFSETTO:-0800
TZNAME:PST
DTSTART:20261101T090000
END:STANDARD
BEGIN:DAYLIGHT
TZOFFSETFROM:-0800
TZOFFSETTO:-0700
TZNAME:PDT
DTSTART:20270314T100000
END:DAYLIGHT
BEGIN:STANDARD
TZOFFSETFROM:-0700
TZOFFSETTO:-0800
TZNAME:PST
DTSTART:20271107T090000
END:STANDARD
END:VTIMEZONE
BEGIN:VEVENT
DTSTART;VALUE=DATE:20260607
DTEND;VALUE=DATE:20260614
DTSTAMP:20260423T171339
CREATED:20260313T164327Z
LAST-MODIFIED:20260313T165600Z
UID:56610-1780790400-1781395199@turningoftheages.com
SUMMARY:Understanding Birth Charts: The Journey of the Soul - In Person in Bali
DESCRIPTION:An in-person teaching of Course 01\nwith Levi Banner\n to deeply dive into the Journey of the Soul through the archetypes. \n  \n\n\n\nJune 7-13 2026 in Bali\, Indonesia\nJOIN LEVI IN BALI!\n\n\n\n\n\n\n\n\n\n  \nTOTAMS/Shamanic Astrology is a living map of life\, revealing the unfolding story of the soul at each stage. \nThrough this training\, you will learn to interpret the wisdom found within birth charts for your own growth and understanding\, while also developing the skills to offer this work to others. \nIn this comprehensive in-person Astrology Course with Levi Banner at the Yoga Barn in Ubud/Bali\, you will learn how to:\nRead birth charts with clarity:\ndiscover your unique soul expression\, along with clarity as to what initiations you came here to learn and walk through in this lifetime. \nSupport others on their journey:\nperform basic birth chart readings\, help your friends\, community\, and clients by reading their birth charts through the lens and lineage of TOTAMS Astrology. \nEnrich your professional practice:\nintegrate powerful astrological tools into any existing healing or counseling work to provide more in depth guidance and support at the soul level. \n  \nClick here to see the full course curriculum \nClick here to learn more about Certification \n\n\n\n\n\n\n\nOrganized by TOTAMS Astrologer Levi Banner
URL:https://turningoftheages.com/event/course-01-in-bali-2026/
LOCATION:The Yoga Barn\, F7M8+PVG\, Jl. Sukma Kesuma\, Peliatan\, Kecamatan Ubud\, Bali\, Ubid\, 80571\, Indonesia
CATEGORIES:In Person Event
ATTACH;FMTTYPE=image/jpeg:https://turningoftheages.com/wp-content/uploads/2026/03/BALI.jpg
END:VEVENT
END:VCALENDAR