BEGIN:VCALENDAR
VERSION:2.0
PRODID:-//Turning of the Ages Mystery School - ECPv6.15.20//NONSGML v1.0//EN
CALSCALE:GREGORIAN
METHOD:PUBLISH
X-WR-CALNAME:Turning of the Ages Mystery School
X-ORIGINAL-URL:https://turningoftheages.com
X-WR-CALDESC:Events for Turning of the Ages Mystery School
REFRESH-INTERVAL;VALUE=DURATION:PT1H
X-Robots-Tag:noindex
X-PUBLISHED-TTL:PT1H
BEGIN:VTIMEZONE
TZID:America/Los_Angeles
BEGIN:DAYLIGHT
TZOFFSETFROM:-0800
TZOFFSETTO:-0700
TZNAME:PDT
DTSTART:20220313T100000
END:DAYLIGHT
BEGIN:STANDARD
TZOFFSETFROM:-0700
TZOFFSETTO:-0800
TZNAME:PST
DTSTART:20221106T090000
END:STANDARD
BEGIN:DAYLIGHT
TZOFFSETFROM:-0800
TZOFFSETTO:-0700
TZNAME:PDT
DTSTART:20230312T100000
END:DAYLIGHT
BEGIN:STANDARD
TZOFFSETFROM:-0700
TZOFFSETTO:-0800
TZNAME:PST
DTSTART:20231105T090000
END:STANDARD
BEGIN:DAYLIGHT
TZOFFSETFROM:-0800
TZOFFSETTO:-0700
TZNAME:PDT
DTSTART:20240310T100000
END:DAYLIGHT
BEGIN:STANDARD
TZOFFSETFROM:-0700
TZOFFSETTO:-0800
TZNAME:PST
DTSTART:20241103T090000
END:STANDARD
BEGIN:DAYLIGHT
TZOFFSETFROM:-0800
TZOFFSETTO:-0700
TZNAME:PDT
DTSTART:20250309T100000
END:DAYLIGHT
BEGIN:STANDARD
TZOFFSETFROM:-0700
TZOFFSETTO:-0800
TZNAME:PST
DTSTART:20251102T090000
END:STANDARD
BEGIN:DAYLIGHT
TZOFFSETFROM:-0800
TZOFFSETTO:-0700
TZNAME:PDT
DTSTART:20260308T100000
END:DAYLIGHT
BEGIN:STANDARD
TZOFFSETFROM:-0700
TZOFFSETTO:-0800
TZNAME:PST
DTSTART:20261101T090000
END:STANDARD
BEGIN:DAYLIGHT
TZOFFSETFROM:-0800
TZOFFSETTO:-0700
TZNAME:PDT
DTSTART:20270314T100000
END:DAYLIGHT
BEGIN:STANDARD
TZOFFSETFROM:-0700
TZOFFSETTO:-0800
TZNAME:PST
DTSTART:20271107T090000
END:STANDARD
END:VTIMEZONE
BEGIN:VEVENT
DTSTART;TZID=America/Los_Angeles:20260201T170000
DTEND;TZID=America/Los_Angeles:20260201T183000
DTSTAMP:20260421T110906
CREATED:20251122T195950Z
LAST-MODIFIED:20251122T201017Z
UID:56115-1769965200-1769970600@turningoftheages.com
SUMMARY:Esoteric Circle - The Air Branch
DESCRIPTION:Join the next call LIVE on\n Sunday\, Feb 1\, 2026 at 5pm PST\nFind your local time HERE \n\nvia the free TOTAMS Community Forum.\n*The recording of this call will also be posted to the forum as soon as it is complete. \nHosted by Daniel Giamario and the TOTAMS Team. \n*Free and open to all\n\n\n\n\n\n\n\n  \nThe Air element is all about research and development in the organic growth of the TOTAMS astrological paradigm. We will continue deepening our understanding of the paradigm and the deeper philosophy of divination\, and non-predictive approaches not based on cause and effect. \n\n\n\nLearn more about the Air Branch here: https://turningoftheages.com/air/
URL:https://turningoftheages.com/event/esoteric-circle-the-air-branch-2026/
CATEGORIES:Esoteric Forum,Free Event
ATTACH;FMTTYPE=image/jpeg:https://turningoftheages.com/wp-content/uploads/2025/11/AirBranch.jpg
END:VEVENT
BEGIN:VEVENT
DTSTART;TZID=America/Los_Angeles:20230505T170000
DTEND;TZID=America/Los_Angeles:20230505T170000
DTSTAMP:20260421T110906
CREATED:20230103T224422Z
LAST-MODIFIED:20240323T164223Z
UID:52499-1683306000-1683306000@turningoftheages.com
SUMMARY:Esoteric Circle: Earth Branch
DESCRIPTION:Join the next call LIVE on\nFriday\, May 5\, 2023 at 5pm PDT\nvia the free TOTAMS Community Forum.\n*The recording of this call will also be posted to the forum as soon as it is complete. \nHosted by Daniel Giamario. \nThis branch’s studies and research include indigenous and earth-based traditions around the world. Invariably\, most of these groups still emphasize ceremony and a living organic relationship with the As Above\, So Below realities\, but they may no longer have direct knowledge or relationship with the night sky. The TOTAMS ceremonial approach\, including knowledge and experience of the night sky\, synodic planetary cycles\, and the Galactic Alignment are offerings that can support these groups.This includes working with stone circles\, petroglyph sites\, and taking journeys to sacred sites\, cosmograms and hierophanies.
URL:https://turningoftheages.com/event/esoteric-forum-2/
CATEGORIES:Esoteric Forum,Free Event
ATTACH;FMTTYPE=image/jpeg:https://turningoftheages.com/wp-content/uploads/2023/01/Gobekli-Tepe-scaled.jpg
END:VEVENT
BEGIN:VEVENT
DTSTART;TZID=America/Los_Angeles:20230202T160000
DTEND;TZID=America/Los_Angeles:20230202T173000
DTSTAMP:20260421T110906
CREATED:20230103T224414Z
LAST-MODIFIED:20240323T163937Z
UID:52492-1675353600-1675359000@turningoftheages.com
SUMMARY:Esoteric Circle: Air Branch
DESCRIPTION:This next meeting will be concerning the philosophical and spiritual foundations of astrology itself\, emphasizing how our paradigm differs from many other forms of astrology.  Another topic concerns diivination.  The inquiry into determinism vs free will is another important topic.  What is astrology for\, anyway? \nThe primary inspirational sources of our approach include: Dane Rudhyar\, C.G.Jung\, astrosophy\, Geoffery Cornelius and others. \nThis branch’s studies and research are directed towards the nature of Astrology and divination itself\, and how the TOTAMS astrological paradigm can contribute to the world at this great Turning of the Ages\, \nWhile TOTAMS is more than astrology\, astrology is the primary modality and approach to Great Mystery used foundationally by our school.   \nThis branch is dedicated to this inquiry\, Learn more about the Air Branch here: https://turningoftheages.com/air/ \nCLICK HERE to join the conversation!
URL:https://turningoftheages.com/event/esoteric-forum/
CATEGORIES:Esoteric Forum,Free Event
ATTACH;FMTTYPE=image/png:https://turningoftheages.com/wp-content/uploads/2023/12/Air-Quadrant-1-1.png
END:VEVENT
END:VCALENDAR