BEGIN:VCALENDAR
VERSION:2.0
PRODID:-//Turning of the Ages Mystery School - ECPv6.15.20//NONSGML v1.0//EN
CALSCALE:GREGORIAN
METHOD:PUBLISH
X-ORIGINAL-URL:https://turningoftheages.com
X-WR-CALDESC:Events for Turning of the Ages Mystery School
REFRESH-INTERVAL;VALUE=DURATION:PT1H
X-Robots-Tag:noindex
X-PUBLISHED-TTL:PT1H
BEGIN:VTIMEZONE
TZID:America/Los_Angeles
BEGIN:DAYLIGHT
TZOFFSETFROM:-0800
TZOFFSETTO:-0700
TZNAME:PDT
DTSTART:20250309T100000
END:DAYLIGHT
BEGIN:STANDARD
TZOFFSETFROM:-0700
TZOFFSETTO:-0800
TZNAME:PST
DTSTART:20251102T090000
END:STANDARD
BEGIN:DAYLIGHT
TZOFFSETFROM:-0800
TZOFFSETTO:-0700
TZNAME:PDT
DTSTART:20260308T100000
END:DAYLIGHT
BEGIN:STANDARD
TZOFFSETFROM:-0700
TZOFFSETTO:-0800
TZNAME:PST
DTSTART:20261101T090000
END:STANDARD
BEGIN:DAYLIGHT
TZOFFSETFROM:-0800
TZOFFSETTO:-0700
TZNAME:PDT
DTSTART:20270314T100000
END:DAYLIGHT
BEGIN:STANDARD
TZOFFSETFROM:-0700
TZOFFSETTO:-0800
TZNAME:PST
DTSTART:20271107T090000
END:STANDARD
END:VTIMEZONE
BEGIN:VEVENT
DTSTART;TZID=America/Los_Angeles:20260121T100000
DTEND;TZID=America/Los_Angeles:20260121T113000
DTSTAMP:20260424T055710
CREATED:20251116T212844Z
LAST-MODIFIED:20251117T135322Z
UID:56001-1768989600-1768995000@turningoftheages.com
SUMMARY:Guided Group Experience Course 01
DESCRIPTION:Course 01\nUnderstanding Birth Charts: The Journey of the Soul\nGuided Group Experience with Levi Banner\n6 Live Online Sessions including a Shamanic Breathwork Closing Ceremony \nIn this core program\, you’ll discover the fundamentals of Turning of the Ages Mystery School Astrology and how to perform a basic birth chart reading for yourself and others. \nThis is a series of Live Q&As led by Levi Banner for a small group of students all enrolled in Course 1: Understanding Birth Charts and moving through the material together. Students must first be enrolled in the course to join. \n  \n\n\nWhat’s Included\nIn-depth recorded lessons: Utilize the Course 01 video content for flexible\, self-paced learning taught by TOTAMS Founder Daniel Giamario and fully certified TOTAMS Astrologer Levi Banner \nWeekly live group calls: 1.5-hour sessions with Q&A and deeper exploration of each week’s material\, led by Levi Banner\, who holds over 15+ years of experience in Shamanic Astrology and the healing sciences. \nCommunity connection: a supportive WhatsApp group for questions\, reminders\, and shared insights throughout the course. \nGuided group study: clear structure and steady support to help you stay on track and integrate the teachings. \nClosing Shamanic Breathwork Ceremony: at the end of the course\, during the 6th week of the guided group calls\, Levi Banner will facilitate a Shamanic Breathwork session which allows you to embody and anchor in the teachings. \n  \n\n\n\nStarting January 21\, 2026\nLive group calls will take place on Wednesdays\n\n\nDates for this group to meet are as follows: \nJanuary 21\, 10 am PST\nJanuary 28\, 10 am PST\nFebruary 4\, 10 am PST\nFebruary 11\, 10 am PST\nFebruary 25\, 10 am PST \n\n\nFind your local time HERE\n  \n\n\n\n\n\nWho Is This For\n\nThis Guided Group Experience is open to all TOTAMS students who have previously purchased a Level 1 or Level 2 Certification Package either via Levi’s page or directly from our school. \nIt is also open to those who purchased Course 01 including the Guided Group Experience. If that is you and you would like to join\, please email support@turningoftheages.com to be enrolled. \nIf you have purchased Course 01 without the Guided Group Experience\, but would like to participate\, you can get the Guided Group add-on here \n\nIf you have not yet purchased Course 01 but would like to start now with this Guided Group Experience\, please make your purchase or contact support@turningoftheages.com for guidance on how to get on board!\n\nIf you have previously attended a Course 01 Guided Group Experience and would like to resit\, you can do so at ½-price. To express your interest and request the special discount code\, please email support@turningoftheages.com.\n\n\n\n\nGet Started\nPURCHASE COURSE 01 WITH GUIDED ADD-ON \nPURCHASE GUIDED ADD-ON ONLY \n  \n\n\n\n\nTake the first steps on an enlightening\, empowering\, and transformational journey with this simple and elegant approach to astrology.\nFor more information on this Certification Program and Guided Group Experience\, please contact levi@turningoftheages.com \nClick here to see the full Course 01 curriculum \nClick here to learn more about TOTAMS Certification \n  \n\nFurther Guided Group Experiences for Course 02 Tracking Transits: Seasons and Cycles and Course 03 Relationships and Inner Wholeness will commence in June and September 2026 respectively.
URL:https://turningoftheages.com/event/guided-group-course-01-2026/
CATEGORIES:Guided Group
ATTACH;FMTTYPE=image/png:https://turningoftheages.com/wp-content/uploads/2025/10/1000031656.png
END:VEVENT
END:VCALENDAR