BEGIN:VCALENDAR
VERSION:2.0
PRODID:-//Turning of the Ages Mystery School - ECPv6.15.20//NONSGML v1.0//EN
CALSCALE:GREGORIAN
METHOD:PUBLISH
X-WR-CALNAME:Turning of the Ages Mystery School
X-ORIGINAL-URL:https://turningoftheages.com
X-WR-CALDESC:Events for Turning of the Ages Mystery School
REFRESH-INTERVAL;VALUE=DURATION:PT1H
X-Robots-Tag:noindex
X-PUBLISHED-TTL:PT1H
BEGIN:VTIMEZONE
TZID:America/Los_Angeles
BEGIN:DAYLIGHT
TZOFFSETFROM:-0800
TZOFFSETTO:-0700
TZNAME:PDT
DTSTART:20220313T100000
END:DAYLIGHT
BEGIN:STANDARD
TZOFFSETFROM:-0700
TZOFFSETTO:-0800
TZNAME:PST
DTSTART:20221106T090000
END:STANDARD
BEGIN:DAYLIGHT
TZOFFSETFROM:-0800
TZOFFSETTO:-0700
TZNAME:PDT
DTSTART:20230312T100000
END:DAYLIGHT
BEGIN:STANDARD
TZOFFSETFROM:-0700
TZOFFSETTO:-0800
TZNAME:PST
DTSTART:20231105T090000
END:STANDARD
BEGIN:DAYLIGHT
TZOFFSETFROM:-0800
TZOFFSETTO:-0700
TZNAME:PDT
DTSTART:20240310T100000
END:DAYLIGHT
BEGIN:STANDARD
TZOFFSETFROM:-0700
TZOFFSETTO:-0800
TZNAME:PST
DTSTART:20241103T090000
END:STANDARD
BEGIN:DAYLIGHT
TZOFFSETFROM:-0800
TZOFFSETTO:-0700
TZNAME:PDT
DTSTART:20250309T100000
END:DAYLIGHT
BEGIN:STANDARD
TZOFFSETFROM:-0700
TZOFFSETTO:-0800
TZNAME:PST
DTSTART:20251102T090000
END:STANDARD
BEGIN:DAYLIGHT
TZOFFSETFROM:-0800
TZOFFSETTO:-0700
TZNAME:PDT
DTSTART:20260308T100000
END:DAYLIGHT
BEGIN:STANDARD
TZOFFSETFROM:-0700
TZOFFSETTO:-0800
TZNAME:PST
DTSTART:20261101T090000
END:STANDARD
BEGIN:DAYLIGHT
TZOFFSETFROM:-0800
TZOFFSETTO:-0700
TZNAME:PDT
DTSTART:20270314T100000
END:DAYLIGHT
BEGIN:STANDARD
TZOFFSETFROM:-0700
TZOFFSETTO:-0800
TZNAME:PST
DTSTART:20271107T090000
END:STANDARD
END:VTIMEZONE
BEGIN:VEVENT
DTSTART;TZID=America/Los_Angeles:20260216T170000
DTEND;TZID=America/Los_Angeles:20260216T183000
DTSTAMP:20260425T091144
CREATED:20260105T183415Z
LAST-MODIFIED:20260105T184636Z
UID:56375-1771261200-1771266600@turningoftheages.com
SUMMARY:The Sacred Cycles of Venus & Mars The Ascent
DESCRIPTION:The Sacred Cycles of Venus & Mars\nThe Ascent\n  \nGroup Journey\, Ceremonially Following and \nCelebrating The Dance of Venus & Mars In The Sky\nHosted by Daniel Giamario\, Shiva Faranpour\, Marianna Voulgaris and Mary Kern\nWe are excited to open enrollment for the upcoming Venus & Mars Ascent Community\n* Members of our previous descent journey may write support@turningoftheages.com\nfor a discount code valid until the first gate. \nTeachings | Ceremony | Resources | Community\n\nCLICK HERE  TO JOIN THIS JOURNEY ! \n\nThis teaching includes both the Sacred Cycles of Venus & Mars and how they operate together. It evolved from Daniel Giamario’s original 1997 research and is not available anywhere else. Whether you are in a Venus or Mars return or not\, there is tremendous magic unfolding in our lives when we honor and co-create with the higher mysteries! \nDuring this ceremonial course we follow the elegant dance of Venus around the Sun\, as it has been celebrated by many ancient cultures\, including the Sumerians who have handed down to us the oldest written poetry about the myth of Inanna-Venus and her Journey into the Underworld and back. \nTo honor and promote the equality and importance of both the sacred feminine and masculine at this great Turning of The Ages\, we are weaving the Mars cycle into the greater story. Together\, in community\, we will follow this story on the backdrop of the constellations and the cosmos to get an even deeper understanding of how to collaborate as humans here on earth and receive direct transmission from the stars! \n“Wisdom can come from surrendering and cooperating with the planetary processes which are guiding us to our higher purpose.” Daniel Giamario \nJoin us for a chance to befriend the cosmos and meet the original stars!\n\nWhat you will receive during this journey:\n· Monthly pre-recorded videos along with downloadable resources one week prior to each live community gathering\, including \n· Monthly video on the planetary and star placements and how to view them in the sky\, including Sabian and Chandra symbols for the most important degrees. \n· Monthly video on the plant and mineral allies to guide us in working with and embodying the energetic of each Chakra Gate. \n· Just before each Venus Gate\, one monthly 90-min live community gathering with ceremony\, sharing\, Q&A and story weaving\, exclusive to this community. \n· Other surprise offerings along the way! \nAny questions? Contact shiva@turningoftheages.com
URL:https://turningoftheages.com/event/the-sacred-cycles-of-venus-mars-the-ascent/
CATEGORIES:Private Group
ATTACH;FMTTYPE=image/png:https://turningoftheages.com/wp-content/uploads/2026/01/Screenshot-2025-11-18-at-4.15.45-PM.png
END:VEVENT
BEGIN:VEVENT
DTSTART;TZID=America/Los_Angeles:20230910T170000
DTEND;TZID=America/Los_Angeles:20230910T183000
DTSTAMP:20260425T091144
CREATED:20230826T185916Z
LAST-MODIFIED:20230905T203259Z
UID:53206-1694365200-1694370600@turningoftheages.com
SUMMARY:The Journey of Inanna Revisioned - 1st Descending Moon Gate
DESCRIPTION:The Journey of Inanna Revisioned\n  \nA series of seminars ceremonially celebrating the Venus Leo Synodic Overstory\nhosted by Shiva Faranpour with Daniel Giamario and other members of the TOTAMS team \nIncludes for the first time the interaction of the Venus cycle with the Mars Overstory!\n You are invited to attend this new immersive 19-month virtual group journey (begins September 11)\n\nCost: $144\n\n\nEarly bird rate (valid until September 11) – $111\n CLICK HERE\n\n\nSeptember 10\, 2023 at 5pm PDT\nFind your local time HERE \n\n\n CLICK HERE TO WATCH THE FREE PREVIEW!\n  \nWhether you are in a Venus or Mars return or not\, or a biological Male or Female\, there is tremendous magic unfolding in our lives when we honor and co-create with the higher mysteries!\nVenus and her elegant dance around the sun has been celebrated in different cultures since ancient times.  The story of Inanna\, an ancient Sumerian myth\, is describing Venus’ relationship to the sun as experienced from the surface of our earth! For the first time\, we are including Mars in the story to get an even deeper understanding. Wisdom can come from surrendering and cooperating with the planetary processes which are guiding us to our higher purpose.\n  \n\n\n\nPURPOSE OF THESE OFFERINGS: \nIn celebration of the third wave of our school we are thrilled to reintroduce Daniel Giamario’s teachings on the Venus and Mars cycles – including the variety of ways Venus interacts with Mars – and the myth of Inanna and her journey into the underworld and beyond in a deeply mystical and fully practical way. Based on Daniel’s original research from 1996 originally published in the Mountain Astrologer in 1997-98\, and many subsequent discoveries\, this offering is designed to include both women and men – as Venus is equally the archetypal feminine for both women and men\, and Mars is equally the archetypal masculine for both men and women.\n\n\nOur intention is to create a group that will work with the entire 584-day Venus/Leo Overstory. We will have regular meetings at the morning and evening star Moon/Venus conjunctions\, as well as during the Inanna Underworld and the Metamorphic Underworld time frames. \nWe will be gathering as a group via Zoom just before each visible Venus/Moon conjunction during her 19-months cycle\, to learn\, share and hold space for those who choose to learn and apply this unique knowledge to connect more deeply with Great Mystery\, with the aid of the cycles of Venus and Mars.\n\nMeetings will include teachings on the astrology\, astronomy\, and mythic stories of each phase we encounter\, group sharing\, and unique ceremonials for each gate/portal of Venus’s journey.
URL:https://turningoftheages.com/event/the-journey-of-inanna-revisioned-1st-descending-moon-gate/
CATEGORIES:Private Group,Webinar
ATTACH;FMTTYPE=image/jpeg:https://turningoftheages.com/wp-content/uploads/2023/08/IMG_20230729_121113.jpg
END:VEVENT
BEGIN:VEVENT
DTSTART;TZID=America/Los_Angeles:20230820T170000
DTEND;TZID=America/Los_Angeles:20230820T170000
DTSTAMP:20260425T091144
CREATED:20230801T163207Z
LAST-MODIFIED:20241213T182759Z
UID:53146-1692550800-1692550800@turningoftheages.com
SUMMARY:The Journey of Inanna Revisioned - FREE PREVIEW
DESCRIPTION:The Journey of Inanna Revisioned\nA series of seminars ceremonially celebrating the Venus Leo Synodic Overstory\nhosted by Shiva Faranpour with Daniel Giamario and other members of the TOTAMS team \nIncludes for the first time the interaction of the Venus cycle with the Mars Overstory!\n You are invited to attend this new immersive 19-month virtual group journey (begins September 11)\nCost: $144\n\nEarly bird rate (valid until September 11) – $111\n CLICK HERE\n\nor attend our FREE PREVIEW\nAugust 20\, 2023 at 5pm PDT\nFind your local time HERE \n\n CLICK HERE TO WATCH THE FREE PREVIEW!\n\n  \nWhether you are in a Venus or Mars return or not\, or a biological Male or Female\, there is tremendous magic unfolding in our lives when we honor and co-create with the higher mysteries!\nVenus and her elegant dance around the sun has been celebrated in different cultures since ancient times.  The story of Inanna\, an ancient Sumerian myth\, is describing Venus’ relationship to the sun as experienced from the surface of our earth! For the first time\, we are including Mars in the story to get an even deeper understanding. Wisdom can come from surrendering and cooperating with the planetary processes which are guiding us to our higher purpose.\n  \n\n\n\nPURPOSE OF THESE OFFERINGS: \nIn celebration of the third wave of our school we are thrilled to reintroduce Daniel Giamario’s teachings on the Venus and Mars cycles – including the variety of ways Venus interacts with Mars – and the myth of Inanna and her journey into the underworld and beyond in a deeply mystical and fully practical way. Based on Daniel’s original research from 1996 originally published in the Mountain Astrologer in 1997-98\, and many subsequent discoveries\, this offering is designed to include both women and men – as Venus is equally the archetypal feminine for both women and men\, and Mars is equally the archetypal masculine for both men and women.\n\n\nOur intention is to create a group that will work with the entire 584-day Venus/Leo Overstory. We will have regular meetings at the morning and evening star Moon/Venus conjunctions\, as well as during the Inanna Underworld and the Metamorphic Underworld timeframes. \nWe will be gathering as a group via Zoom just before each visible Venus/Moon conjunction during her 19-months cycle\, to learn\, share and hold space for those who choose to learn and apply this unique knowledge to connect more deeply with Great Mystery\, with the aid of the cycles of Venus and Mars.\n\nMeetings will include teachings on the astrology\, astronomy\, and mythic stories of each phase we encounter\, group sharing\, and unique ceremonials for each gate/portal of Venus’s journey.
URL:https://turningoftheages.com/event/venuscycle/
CATEGORIES:Private Group,Webinar
ATTACH;FMTTYPE=image/jpeg:https://turningoftheages.com/wp-content/uploads/2023/08/IMG_20230729_121113.jpg
END:VEVENT
END:VCALENDAR