BEGIN:VCALENDAR
VERSION:2.0
PRODID:-//Turning of the Ages Mystery School - ECPv6.15.20//NONSGML v1.0//EN
CALSCALE:GREGORIAN
METHOD:PUBLISH
X-WR-CALNAME:Turning of the Ages Mystery School
X-ORIGINAL-URL:https://turningoftheages.com
X-WR-CALDESC:Events for Turning of the Ages Mystery School
REFRESH-INTERVAL;VALUE=DURATION:PT1H
X-Robots-Tag:noindex
X-PUBLISHED-TTL:PT1H
BEGIN:VTIMEZONE
TZID:America/Los_Angeles
BEGIN:DAYLIGHT
TZOFFSETFROM:-0800
TZOFFSETTO:-0700
TZNAME:PDT
DTSTART:20250309T100000
END:DAYLIGHT
BEGIN:STANDARD
TZOFFSETFROM:-0700
TZOFFSETTO:-0800
TZNAME:PST
DTSTART:20251102T090000
END:STANDARD
BEGIN:DAYLIGHT
TZOFFSETFROM:-0800
TZOFFSETTO:-0700
TZNAME:PDT
DTSTART:20260308T100000
END:DAYLIGHT
BEGIN:STANDARD
TZOFFSETFROM:-0700
TZOFFSETTO:-0800
TZNAME:PST
DTSTART:20261101T090000
END:STANDARD
BEGIN:DAYLIGHT
TZOFFSETFROM:-0800
TZOFFSETTO:-0700
TZNAME:PDT
DTSTART:20270314T100000
END:DAYLIGHT
BEGIN:STANDARD
TZOFFSETFROM:-0700
TZOFFSETTO:-0800
TZNAME:PST
DTSTART:20271107T090000
END:STANDARD
END:VTIMEZONE
BEGIN:VTIMEZONE
TZID:Europe/Paris
BEGIN:DAYLIGHT
TZOFFSETFROM:+0100
TZOFFSETTO:+0200
TZNAME:CEST
DTSTART:20250330T010000
END:DAYLIGHT
BEGIN:STANDARD
TZOFFSETFROM:+0200
TZOFFSETTO:+0100
TZNAME:CET
DTSTART:20251026T010000
END:STANDARD
BEGIN:DAYLIGHT
TZOFFSETFROM:+0100
TZOFFSETTO:+0200
TZNAME:CEST
DTSTART:20260329T010000
END:DAYLIGHT
BEGIN:STANDARD
TZOFFSETFROM:+0200
TZOFFSETTO:+0100
TZNAME:CET
DTSTART:20261025T010000
END:STANDARD
BEGIN:DAYLIGHT
TZOFFSETFROM:+0100
TZOFFSETTO:+0200
TZNAME:CEST
DTSTART:20270328T010000
END:DAYLIGHT
BEGIN:STANDARD
TZOFFSETFROM:+0200
TZOFFSETTO:+0100
TZNAME:CET
DTSTART:20271031T010000
END:STANDARD
END:VTIMEZONE
BEGIN:VEVENT
DTSTART;TZID=America/Los_Angeles:20260316T170000
DTEND;TZID=America/Los_Angeles:20260316T183000
DTSTAMP:20260423T115203
CREATED:20260205T192955Z
LAST-MODIFIED:20260219T203609Z
UID:56449-1773680400-1773685800@turningoftheages.com
SUMMARY:Pisces New Moon Members Call
DESCRIPTION:TOTAMS Members Calls for different time zones take place at or near the New Moon each month and cover all the major astrological and astronomical events taking place during the current lunation cycle. Members Exclusive! \n\nJoin LIVE!\nPisces New Moon Members Call\nwith Daniel Giamario & Lizzie Kay Moon\nMonday\, March 16\, 5:00-6:30pm PST\nFind your local time HERE \n\nAccess Links can be found in the\n\nMembers Forum\nand find the archive of all\nMonthly Member Call Recordings here\nNot a member? Click HERE to learn more and Join Now!
URL:https://turningoftheages.com/event/pisces-new-moon-members-call-2026/
LOCATION:Ubid
CATEGORIES:Members Only
ATTACH;FMTTYPE=image/png:https://turningoftheages.com/wp-content/uploads/2025/11/Members-call-graphic-1.png
END:VEVENT
BEGIN:VEVENT
DTSTART;TZID=Europe/Paris:20260320T100000
DTEND;TZID=Europe/Paris:20260321T190000
DTSTAMP:20260423T115204
CREATED:20260205T200603Z
LAST-MODIFIED:20260321T093235Z
UID:56450-1774000800-1774119600@turningoftheages.com
SUMMARY:Aries Equinox Seminars (2 Days)
DESCRIPTION:Friday\, March 20\, 10:00-12:00 CET\nCalling In The 12 Tribes\nwith Daniel Giamario\, Lynne Llamas-Giamario and Naraya Naserian\nFind your local time HERE \nAs the materialism of the Kali Yuga is being composted and old ways are fading out\, we intend to inaugurate a year-long journey of vital importance: \nOne of our school’s ongoing projects at this Great Turning of The Ages is the revisioning of the 12 Mystery Schools of Life (what astrology calls the signs). As The Ages turn\, different constellations align with the tropical signs of the zodiac. Though\, in the view of our paradigm\, the archetypal essence of a sign remains the same\, it’s content and expression will change in important ways. The classical meanings will not apply any longer and what has been unconsciously believed about each of the tropical signs equally may no longer apply. \nThis Equinox Seminar is designed to share the overall vision for our upcoming year-long journey\, scheduled to take off at the Cancer Solstice\, diving deep into philosophical foundations derived from the work of Dane Rudhyar and Rudolf Steiner. \nAs one of TOTAMS’ main objectives is to seek\, nurture and support Seed People for the emerging times\, we invite you to be part of and share in this pivotal dreaming and envisioning process. \nOFFER A DONATION NOW OR REGISTER FOR FREE TO RECEIVE LIVE ACCESS\, RECORDINGS AND RESOURCES!\n  \n\n\nSaturday\, March 21\, 5:00-7:00pm PDT\nWorld Events: United States\, Trump\, The WEF\, and more …\nwith Daniel Giamario and Lizzie Kay Moon\nFind your local time HERE \n Now that the Pluto and Chiron Returns have ended\, it is once again time to check in on the United States chart. The Uranus Return is fast approaching and the Jupiter Return culminating. We will also check in on the charts of Donald Trump\, the World Economic Forum\, its chairman Larry Fink\, and a few other notables making headlines\, such as Elon Musk\, JD Vance\, and Peter Thiel. Not to be missed! \nOFFER A DONATION NOW OR REGISTER FOR FREE TO RECEIVE LIVE ACCESS\, RECORDINGS AND RESOURCES!
URL:https://turningoftheages.com/event/march-equinox-seminars-2026/
LOCATION:Ubid
CATEGORIES:Solstice & Equinox Seminars
ATTACH;FMTTYPE=image/jpeg:https://turningoftheages.com/wp-content/uploads/2026/02/Marchequinox.jpg
END:VEVENT
BEGIN:VEVENT
DTSTART;TZID=America/Los_Angeles:20260324T170000
DTEND;TZID=America/Los_Angeles:20260324T183000
DTSTAMP:20260423T115204
CREATED:20260217T192425Z
LAST-MODIFIED:20260317T204343Z
UID:56490-1774371600-1774377000@turningoftheages.com
SUMMARY:March Chart Guidance - Back to Basics Part II
DESCRIPTION:Back to Basics: The 144 Storylines\nPart II\nChart Guidance with Daniel Giamario\n\nTuesday\, March 24\, 5:00-6:30pm PDT\nFind your local time HERE \nLast month\, we decided it was time to go back to the basics\, which proved to be useful. So this month\, we continue this topic with Part II. \nEven within the framework of any specific topic\, the TOTAMS approach is to always refer first to the most basic foundational element of chart interpretation:\nThe 144 Storylines of Lineage and of Current Life Purpose. \nThis technique determines the lineage storyline using the sign of the natal Moon and South Node house position\, and the current life purpose storyline using the sign of the Ascendant with the North Node house placement. Whatever else we investigate on a personal chart operates within this larger context. All your transits and timeline cycles start to make greater sense when seen through this lens. \nAfter signing up\, you will receive access to the course where you can submit your question.\nSubmitting your question early may ensure that it will be addressed live. \nChart Guidance (formerly Group Mentoring) offers a low-cost opportunity to ask your most pressing questions relative to your personal chart and the topic of each session for our Founder to offer insight\, guidance and navigation strategies specific to your unique life purpose\, path and the planetary initiations you find yourself in at any given time. \nFor a full Chart Reading\, visit our Astrologer Directory. \n\nREGISTER NOW!\n\nFor TOTAMS Members:\nFree for Premium Members! Discount Code on your dashboard! \n\nBasic Members click HERE to purchase for 50% off! \nNot a Member? Consider joining today: https://turningoftheages.com/membership/ \n\n\nChart Guidance (Formerly Group Mentoring) always takes place on or near the First Quarter Moon. The main purpose is to provide an opportunity to enhance participant understanding and skills in various aspects of chart analysis. Each monthly offering has a different focus. Previous sessions included: Pluto aspects and transits\, all about Mercury (including retrogrades)\, how to work with eclipses on a chart\, and many more. Find the full archive of previously recorded Group Mentoring sessions by visiting the TOTAMS Online Store.
URL:https://turningoftheages.com/event/march-group-mentoring-2026/
LOCATION:Ubid
CATEGORIES:Group Mentoring
ATTACH;FMTTYPE=image/jpeg:https://turningoftheages.com/wp-content/uploads/2025/11/GroupMentoringPhoto.jpg
END:VEVENT
END:VCALENDAR